BEGIN:VCALENDAR
VERSION:2.0
PRODID:-//eventon.com NONSGML v1.0//EN
CALSCALE:GREGORIAN
METHOD:PUBLISH
BEGIN:VEVENT
UID:69ea31dea0903
DTSTAMP:20260423T105110
DTSTART:20260627T230000Z
DTEND:20260628T020000Z
TZID:America/Indiana/Indianapolis
LOCATION:1501 East Berry St\,  Fort Wayne\,  IN\,  United States\,  Indiana 46805 1501 East Berry St\,  Fort Wayne\,  IN\,  United States\,  Indiana 46805
SUMMARY:Content Building Day
DESCRIPTION: Drop In studio access for portfolio building social media content creation or just to try out a new idea! Great for Photographers and Social Media Content Creators. Drop-in rate $20 per person access to props\,  lighting\,  and sets. https://www.facebook.com/events/1428619305598530/?event_time_id=1428623982264729\nhttps://eastendeeclectic.com/events/content-building-day-5/
URL:https://eastendeeclectic.com/events/content-building-day-5/
END:VEVENT
END:VCALENDAR